BEGIN:VCALENDAR
VERSION:2.0
PRODID:-//Kearney Buffalo County CASA - ECPv6.15.20//NONSGML v1.0//EN
CALSCALE:GREGORIAN
METHOD:PUBLISH
X-WR-CALNAME:Kearney Buffalo County CASA
X-ORIGINAL-URL:https://kearneybuffalocountycasa.com
X-WR-CALDESC:Events for Kearney Buffalo County CASA
REFRESH-INTERVAL;VALUE=DURATION:PT1H
X-Robots-Tag:noindex
X-PUBLISHED-TTL:PT1H
BEGIN:VTIMEZONE
TZID:America/Chicago
BEGIN:DAYLIGHT
TZOFFSETFROM:-0600
TZOFFSETTO:-0500
TZNAME:CDT
DTSTART:20240310T080000
END:DAYLIGHT
BEGIN:STANDARD
TZOFFSETFROM:-0500
TZOFFSETTO:-0600
TZNAME:CST
DTSTART:20241103T070000
END:STANDARD
BEGIN:DAYLIGHT
TZOFFSETFROM:-0600
TZOFFSETTO:-0500
TZNAME:CDT
DTSTART:20250309T080000
END:DAYLIGHT
BEGIN:STANDARD
TZOFFSETFROM:-0500
TZOFFSETTO:-0600
TZNAME:CST
DTSTART:20251102T070000
END:STANDARD
BEGIN:DAYLIGHT
TZOFFSETFROM:-0600
TZOFFSETTO:-0500
TZNAME:CDT
DTSTART:20260308T080000
END:DAYLIGHT
BEGIN:STANDARD
TZOFFSETFROM:-0500
TZOFFSETTO:-0600
TZNAME:CST
DTSTART:20261101T070000
END:STANDARD
END:VTIMEZONE
BEGIN:VEVENT
DTSTART;VALUE=DATE:20250526
DTEND;VALUE=DATE:20250527
DTSTAMP:20260422T055901
CREATED:20250513T163237Z
LAST-MODIFIED:20250513T163237Z
UID:2033-1748217600-1748303999@kearneybuffalocountycasa.com
SUMMARY:Memorial Day
DESCRIPTION:Our CASA Office will be closed on Monday\, May 26th to observe Memorial Day. Thank you to all the men and women in uniform who sacrifice so much and those who sacrificed their lives so that we may live in peace.
URL:https://kearneybuffalocountycasa.com/event/memorial-day/
LOCATION:NE
END:VEVENT
END:VCALENDAR