BEGIN:VCALENDAR
VERSION:2.0
PRODID:-//Kearney Buffalo County CASA - ECPv6.15.20//NONSGML v1.0//EN
CALSCALE:GREGORIAN
METHOD:PUBLISH
X-ORIGINAL-URL:https://kearneybuffalocountycasa.com
X-WR-CALDESC:Events for Kearney Buffalo County CASA
REFRESH-INTERVAL;VALUE=DURATION:PT1H
X-Robots-Tag:noindex
X-PUBLISHED-TTL:PT1H
BEGIN:VTIMEZONE
TZID:America/Chicago
BEGIN:DAYLIGHT
TZOFFSETFROM:-0600
TZOFFSETTO:-0500
TZNAME:CDT
DTSTART:20240310T080000
END:DAYLIGHT
BEGIN:STANDARD
TZOFFSETFROM:-0500
TZOFFSETTO:-0600
TZNAME:CST
DTSTART:20241103T070000
END:STANDARD
BEGIN:DAYLIGHT
TZOFFSETFROM:-0600
TZOFFSETTO:-0500
TZNAME:CDT
DTSTART:20250309T080000
END:DAYLIGHT
BEGIN:STANDARD
TZOFFSETFROM:-0500
TZOFFSETTO:-0600
TZNAME:CST
DTSTART:20251102T070000
END:STANDARD
BEGIN:DAYLIGHT
TZOFFSETFROM:-0600
TZOFFSETTO:-0500
TZNAME:CDT
DTSTART:20260308T080000
END:DAYLIGHT
BEGIN:STANDARD
TZOFFSETFROM:-0500
TZOFFSETTO:-0600
TZNAME:CST
DTSTART:20261101T070000
END:STANDARD
BEGIN:DAYLIGHT
TZOFFSETFROM:-0600
TZOFFSETTO:-0500
TZNAME:CDT
DTSTART:20270314T080000
END:DAYLIGHT
BEGIN:STANDARD
TZOFFSETFROM:-0500
TZOFFSETTO:-0600
TZNAME:CST
DTSTART:20271107T070000
END:STANDARD
END:VTIMEZONE
BEGIN:VEVENT
DTSTART;TZID=America/Chicago:20250328T180000
DTEND;TZID=America/Chicago:20250328T210000
DTSTAMP:20260422T180411
CREATED:20240919T203804Z
LAST-MODIFIED:20241213T193949Z
UID:1768-1743184800-1743195600@kearneybuffalocountycasa.com
SUMMARY:2025 Light of Hope
DESCRIPTION:Join us for our First ever\, Light of Hope! Be a Light of Hope to the children in Kearney and Buffalo County who have experienced abuse and neglect and are in the court system.
URL:https://kearneybuffalocountycasa.com/event/2025-light-of-hope/
LOCATION:Younes Conference Center\, 416 West Talmadge Rd.\, Kearney\, NE\, 68845\, United States
ORGANIZER;CN="Kearney/Buffalo County CASA":MAILTO:casa@mnca.net
END:VEVENT
BEGIN:VEVENT
DTSTART;VALUE=DATE:20250526
DTEND;VALUE=DATE:20250527
DTSTAMP:20260422T180411
CREATED:20250513T163237Z
LAST-MODIFIED:20250513T163237Z
UID:2033-1748217600-1748303999@kearneybuffalocountycasa.com
SUMMARY:Memorial Day
DESCRIPTION:Our CASA Office will be closed on Monday\, May 26th to observe Memorial Day. Thank you to all the men and women in uniform who sacrifice so much and those who sacrificed their lives so that we may live in peace.
URL:https://kearneybuffalocountycasa.com/event/memorial-day/
LOCATION:NE
END:VEVENT
BEGIN:VEVENT
DTSTART;VALUE=DATE:20250619
DTEND;VALUE=DATE:20250620
DTSTAMP:20260422T180411
CREATED:20250513T165330Z
LAST-MODIFIED:20250513T165330Z
UID:2037-1750291200-1750377599@kearneybuffalocountycasa.com
SUMMARY:Juneteenth
DESCRIPTION:Our CASA Office will be closed on June 19th\, to observe Juneteenth. Juneteenth is a federal holiday in the US. It is celebrated annually on June 19 to commemorate the end of slavery in the United States.
URL:https://kearneybuffalocountycasa.com/event/juneteenth/
LOCATION:NE
END:VEVENT
BEGIN:VEVENT
DTSTART;TZID=America/Chicago:20250823T090000
DTEND;TZID=America/Chicago:20250823T163000
DTSTAMP:20260422T180411
CREATED:20250513T162521Z
LAST-MODIFIED:20250513T162804Z
UID:2031-1755939600-1755966600@kearneybuffalocountycasa.com
SUMMARY:Guiding Hearts Through Foster Care: Nebraska CASA State Conference
DESCRIPTION:
URL:https://kearneybuffalocountycasa.com/event/guiding-hearts-through-foster-care-nebraska-casa-state-conference/
LOCATION:Younes Conference Center\, 416 West Talmadge Rd.\, Kearney\, NE\, 68845\, United States
END:VEVENT
BEGIN:VEVENT
DTSTART;TZID=America/Chicago:20260327T173000
DTEND;TZID=America/Chicago:20260327T213000
DTSTAMP:20260422T180411
CREATED:20251219T213030Z
LAST-MODIFIED:20251219T213030Z
UID:2144-1774632600-1774647000@kearneybuffalocountycasa.com
SUMMARY:2026 A Murder Mystery
DESCRIPTION:
URL:https://kearneybuffalocountycasa.com/event/2026-a-murder-mystery/
LOCATION:Younes Conference Center\, 416 West Talmadge Rd.\, Kearney\, NE\, 68845\, United States
ORGANIZER;CN="Kearney/Buffalo County CASA":MAILTO:casa@mnca.net
END:VEVENT
END:VCALENDAR