BEGIN:VCALENDAR
VERSION:2.0
PRODID:-//Kearney Buffalo County CASA - ECPv6.15.20//NONSGML v1.0//EN
CALSCALE:GREGORIAN
METHOD:PUBLISH
X-WR-CALNAME:Kearney Buffalo County CASA
X-ORIGINAL-URL:https://kearneybuffalocountycasa.com
X-WR-CALDESC:Events for Kearney Buffalo County CASA
REFRESH-INTERVAL;VALUE=DURATION:PT1H
X-Robots-Tag:noindex
X-PUBLISHED-TTL:PT1H
BEGIN:VTIMEZONE
TZID:America/Chicago
BEGIN:DAYLIGHT
TZOFFSETFROM:-0600
TZOFFSETTO:-0500
TZNAME:CDT
DTSTART:20200308T080000
END:DAYLIGHT
BEGIN:STANDARD
TZOFFSETFROM:-0500
TZOFFSETTO:-0600
TZNAME:CST
DTSTART:20201101T070000
END:STANDARD
BEGIN:DAYLIGHT
TZOFFSETFROM:-0600
TZOFFSETTO:-0500
TZNAME:CDT
DTSTART:20210314T080000
END:DAYLIGHT
BEGIN:STANDARD
TZOFFSETFROM:-0500
TZOFFSETTO:-0600
TZNAME:CST
DTSTART:20211107T070000
END:STANDARD
BEGIN:DAYLIGHT
TZOFFSETFROM:-0600
TZOFFSETTO:-0500
TZNAME:CDT
DTSTART:20220313T080000
END:DAYLIGHT
BEGIN:STANDARD
TZOFFSETFROM:-0500
TZOFFSETTO:-0600
TZNAME:CST
DTSTART:20221106T070000
END:STANDARD
BEGIN:DAYLIGHT
TZOFFSETFROM:-0600
TZOFFSETTO:-0500
TZNAME:CDT
DTSTART:20230312T080000
END:DAYLIGHT
BEGIN:STANDARD
TZOFFSETFROM:-0500
TZOFFSETTO:-0600
TZNAME:CST
DTSTART:20231105T070000
END:STANDARD
END:VTIMEZONE
BEGIN:VEVENT
DTSTART;VALUE=DATE:20220429
DTEND;VALUE=DATE:20220430
DTSTAMP:20260422T170602
CREATED:20210701T162014Z
LAST-MODIFIED:20210701T162014Z
UID:452-1651190400-1651276799@kearneybuffalocountycasa.com
SUMMARY:CASA Office will be closed due to the Holiday (Arbor Day)
DESCRIPTION:
URL:https://kearneybuffalocountycasa.com/event/casa-office-will-be-closed-due-to-the-holiday-arbor-day/
LOCATION:NE
END:VEVENT
BEGIN:VEVENT
DTSTART;TZID=America/Chicago:20220325T173000
DTEND;TZID=America/Chicago:20220325T210000
DTSTAMP:20260422T170602
CREATED:20211022T202135Z
LAST-MODIFIED:20211027T202902Z
UID:700-1648229400-1648242000@kearneybuffalocountycasa.com
SUMMARY:2022 2nd Annual CASA Superhero GALA
DESCRIPTION:2022 2nd Annual CASA Superhero GALA \nSAVE THE DATE \nJoin us for an evening of great food\, entertainment\, a raffle\, auction\, and whiskey/wine pull!
URL:https://kearneybuffalocountycasa.com/event/700/
LOCATION:Younes Conference Center\, 416 West Talmadge Rd.\, Kearney\, NE\, 68845\, United States
ORGANIZER;CN="Kearney/Buffalo County CASA":MAILTO:casa@mnca.net
END:VEVENT
BEGIN:VEVENT
DTSTART;VALUE=DATE:20220221
DTEND;VALUE=DATE:20220222
DTSTAMP:20260422T170602
CREATED:20210701T161859Z
LAST-MODIFIED:20210701T161859Z
UID:450-1645401600-1645487999@kearneybuffalocountycasa.com
SUMMARY:CASA Office will be closed due to the Holiday (President's Day)
DESCRIPTION:
URL:https://kearneybuffalocountycasa.com/event/casa-office-will-be-closed-due-to-the-holiday-presidents-day/
LOCATION:NE
END:VEVENT
BEGIN:VEVENT
DTSTART;VALUE=DATE:20220117
DTEND;VALUE=DATE:20220118
DTSTAMP:20260422T170602
CREATED:20210701T161817Z
LAST-MODIFIED:20210701T161817Z
UID:448-1642377600-1642463999@kearneybuffalocountycasa.com
SUMMARY:CASA Office will be closed due to the Holiday (Martin Luther King Jr. Day)
DESCRIPTION:
URL:https://kearneybuffalocountycasa.com/event/casa-office-will-be-closed-due-to-the-holiday-martin-luther-king-jr-day/
LOCATION:NE
END:VEVENT
BEGIN:VEVENT
DTSTART;VALUE=DATE:20220101
DTEND;VALUE=DATE:20220102
DTSTAMP:20260422T170602
CREATED:20210701T161621Z
LAST-MODIFIED:20210701T161621Z
UID:446-1640995200-1641081599@kearneybuffalocountycasa.com
SUMMARY:CASA Office Closed due to Holiday (New Years Day)
DESCRIPTION:
URL:https://kearneybuffalocountycasa.com/event/casa-office-closed-due-to-holiday-new-years-day/
LOCATION:NE
END:VEVENT
BEGIN:VEVENT
DTSTART;VALUE=DATE:20211231
DTEND;VALUE=DATE:20220101
DTSTAMP:20260422T170602
CREATED:20210701T161529Z
LAST-MODIFIED:20210701T161529Z
UID:444-1640908800-1640995199@kearneybuffalocountycasa.com
SUMMARY:CASA Office Closed due to Holiday (New Years Eve)
DESCRIPTION:
URL:https://kearneybuffalocountycasa.com/event/casa-office-closed-due-to-holiday-new-years-eve/
LOCATION:NE
END:VEVENT
BEGIN:VEVENT
DTSTART;VALUE=DATE:20211225
DTEND;VALUE=DATE:20211226
DTSTAMP:20260422T170602
CREATED:20210701T161439Z
LAST-MODIFIED:20210701T161439Z
UID:442-1640390400-1640476799@kearneybuffalocountycasa.com
SUMMARY:CASA Office Closed due to the Holiday (Christmas Day)
DESCRIPTION:
URL:https://kearneybuffalocountycasa.com/event/casa-office-closed-due-to-the-holiday-christmas-day/
LOCATION:NE
END:VEVENT
BEGIN:VEVENT
DTSTART;VALUE=DATE:20211224
DTEND;VALUE=DATE:20211225
DTSTAMP:20260422T170602
CREATED:20210701T161401Z
LAST-MODIFIED:20210701T161401Z
UID:440-1640304000-1640390399@kearneybuffalocountycasa.com
SUMMARY:CASA Office Closed due to Holiday (Christmas Eve)
DESCRIPTION:
URL:https://kearneybuffalocountycasa.com/event/casa-office-closed-due-to-holiday-christmas-eve/
LOCATION:NE
END:VEVENT
BEGIN:VEVENT
DTSTART;TZID=America/Chicago:20211207T170000
DTEND;TZID=America/Chicago:20211207T200000
DTSTAMP:20260422T170602
CREATED:20211027T203924Z
LAST-MODIFIED:20211027T204252Z
UID:703-1638896400-1638907200@kearneybuffalocountycasa.com
SUMMARY:Gambino's Pizza Fundraiser for Kearney/Buffalo County CASA
DESCRIPTION:Hey there\, don’t worry about supper on December 7th! We’ve got you covered!! \n10% of the proceeds from 5pm-close on their dine in buffet\, carryout and delivery sales on December 7th at Gambino’s Pizza will come back to support your very own Kearney/Buffalo County CASA program.
URL:https://kearneybuffalocountycasa.com/event/gabinos-pizza-fundraiser-for-kearney-buffalo-county-casa/
LOCATION:Gambinos Pizza\, 2715 2nd Avenue Ste A\, Kearney\, 68847\, United States
END:VEVENT
BEGIN:VEVENT
DTSTART;TZID=America/Chicago:20211204T080000
DTEND;TZID=America/Chicago:20211204T110000
DTSTAMP:20260422T170602
CREATED:20211028T165428Z
LAST-MODIFIED:20211028T165428Z
UID:711-1638604800-1638615600@kearneybuffalocountycasa.com
SUMMARY:Breakfast with Santa
DESCRIPTION:Santa’s coming to town!!!! Kearney Area Children’s Museum is putting on our favorite\, Breakfast with Santa on December 4th from 8-11am! There will be great food and lots of fun activities! \nKearney/Buffalo County CASA\, along with other organizations will be there to provide lots of fun activities!
URL:https://kearneybuffalocountycasa.com/event/breakfast-with-santa/
LOCATION:Buffalo County Fairgrounds\, 3807 Avenue N\, Exhibit Building\, Kearney\, NE\, 68847\, United States
END:VEVENT
BEGIN:VEVENT
DTSTART;VALUE=DATE:20211202
DTEND;VALUE=DATE:20211203
DTSTAMP:20260422T170602
CREATED:20211022T201336Z
LAST-MODIFIED:20211022T201336Z
UID:697-1638403200-1638489599@kearneybuffalocountycasa.com
SUMMARY:2021 Give Where You Live: The Joy of Giving
DESCRIPTION:Give Joy Locally\n\n\n\n\nGive on December 2 to support local nonprofits! Please consider donating to Kearney/Buffalo County CASA and helping abused and neglected children of Kearney and Buffalo County.\n\n\n\n\nGive Where You Live brings people together as one community\, raising money and awareness for our local nonprofits. This community-wide effort is powered by the Kearney Area Community Foundation encouraging area nonprofits to build their capacity\, find new donors and identify new funding streams. Since Give Where You Live’s inception in 2013\, more than $6.5 million has been raised for local nonprofits.
URL:https://kearneybuffalocountycasa.com/event/2021-give-where-you-live-the-joy-of-giving/
LOCATION:NE
END:VEVENT
BEGIN:VEVENT
DTSTART;VALUE=DATE:20211126
DTEND;VALUE=DATE:20211127
DTSTAMP:20260422T170602
CREATED:20210701T154458Z
LAST-MODIFIED:20210701T154458Z
UID:438-1637884800-1637971199@kearneybuffalocountycasa.com
SUMMARY:CASA Offices Closed due to the Holiday (Day After Thanksgiving)
DESCRIPTION:
URL:https://kearneybuffalocountycasa.com/event/casa-offices-closed-due-to-the-holiday-day-after-thanksgiving/
LOCATION:NE
END:VEVENT
BEGIN:VEVENT
DTSTART;VALUE=DATE:20211125
DTEND;VALUE=DATE:20211126
DTSTAMP:20260422T170602
CREATED:20210701T154319Z
LAST-MODIFIED:20210701T154319Z
UID:436-1637798400-1637884799@kearneybuffalocountycasa.com
SUMMARY:CASA Offices Closed due to the Holiday (Thanksgiving)
DESCRIPTION:
URL:https://kearneybuffalocountycasa.com/event/casa-offices-closed-due-to-the-holiday-thanksgiving/
LOCATION:NE
END:VEVENT
BEGIN:VEVENT
DTSTART;VALUE=DATE:20211111
DTEND;VALUE=DATE:20211112
DTSTAMP:20260422T170602
CREATED:20210701T154218Z
LAST-MODIFIED:20210701T154218Z
UID:433-1636588800-1636675199@kearneybuffalocountycasa.com
SUMMARY:CASA Office Closed due to the Holiday (Veteran's Day)
DESCRIPTION:
URL:https://kearneybuffalocountycasa.com/event/casa-office-closed-due-to-the-holiday-veterans-day/
LOCATION:NE
END:VEVENT
BEGIN:VEVENT
DTSTART;TZID=America/Chicago:20211106T113000
DTEND;TZID=America/Chicago:20211106T130000
DTSTAMP:20260422T170602
CREATED:20211028T162928Z
LAST-MODIFIED:20211028T162928Z
UID:708-1636198200-1636203600@kearneybuffalocountycasa.com
SUMMARY:Celebration of all Veteran's: Veteran's Day Parade
DESCRIPTION:Kearney is having a Veteran’s Day Parade on November 6th starting at 11:30am! Join the festivities and celebrate our Veteran’s! Kearney/Buffalo County CASA is one of many groups who will be part of the parade. Come on down to support our Veteran’s and Kearney/Buffalo County CASA!
URL:https://kearneybuffalocountycasa.com/event/celebration-of-all-veterans-veterans-day-parade/
LOCATION:NE
END:VEVENT
BEGIN:VEVENT
DTSTART;VALUE=DATE:20211011
DTEND;VALUE=DATE:20211012
DTSTAMP:20260422T170602
CREATED:20210701T154116Z
LAST-MODIFIED:20210701T154116Z
UID:431-1633910400-1633996799@kearneybuffalocountycasa.com
SUMMARY:CASA Office Closed due to the Holiday (Columbus Day)
DESCRIPTION:
URL:https://kearneybuffalocountycasa.com/event/casa-office-closed-due-to-the-holiday-columbus-day/
LOCATION:NE
END:VEVENT
BEGIN:VEVENT
DTSTART;VALUE=DATE:20210906
DTEND;VALUE=DATE:20210907
DTSTAMP:20260422T170602
CREATED:20210701T153933Z
LAST-MODIFIED:20210701T153933Z
UID:428-1630886400-1630972799@kearneybuffalocountycasa.com
SUMMARY:CASA Office Closed due to the Holiday(Labor Day)
DESCRIPTION:
URL:https://kearneybuffalocountycasa.com/event/casa-office-closed-due-to-the-holidaylabor-day/
LOCATION:NE
END:VEVENT
BEGIN:VEVENT
DTSTART;TZID=America/Chicago:20210827T090000
DTEND;TZID=America/Chicago:20210828T170000
DTSTAMP:20260422T170602
CREATED:20210701T153823Z
LAST-MODIFIED:20210701T153823Z
UID:425-1630054800-1630170000@kearneybuffalocountycasa.com
SUMMARY:Nebraska CASA Conference
DESCRIPTION:
URL:https://kearneybuffalocountycasa.com/event/nebraska-casa-conference/
LOCATION:NE
END:VEVENT
BEGIN:VEVENT
DTSTART;VALUE=DATE:20210705
DTEND;VALUE=DATE:20210706
DTSTAMP:20260422T170602
CREATED:20210701T153420Z
LAST-MODIFIED:20210701T154020Z
UID:423-1625443200-1625529599@kearneybuffalocountycasa.com
SUMMARY:CASA Office Closed due to the Holiday (Observing the 4th of July)
DESCRIPTION:  \n 
URL:https://kearneybuffalocountycasa.com/event/office-closed-due-to-holiday/
LOCATION:NE
END:VEVENT
BEGIN:VEVENT
DTSTART;TZID=America/Chicago:20210611T173000
DTEND;TZID=America/Chicago:20210611T210000
DTSTAMP:20260422T170602
CREATED:20210430T163823Z
LAST-MODIFIED:20210510T154047Z
UID:215-1623432600-1623445200@kearneybuffalocountycasa.com
SUMMARY:2021 CASA Superhero GALA
DESCRIPTION:CALLING ALL Superhero’s!!! Join us for our First Annual CASA Superhero GALA\, on June 11\, 2021 for dining\, entertainment and guest speakers. Be a SUPERHERO and help abused and neglected child in Kearney and Buffalo County! To purchase tickets\, stop by our CASA office\, Tru Cafe\, or purchase your tickets on Eventbrite. \n\n			\n		\n	\n	\n	\n	\n		CASA Gala 21	\n	\n	\n\n	\n \nGet Your Tickets
URL:https://kearneybuffalocountycasa.com/event/test-event/
LOCATION:Younes Conference Center\, 416 West Talmadge Rd.\, Kearney\, NE\, 68845\, United States
ATTACH;FMTTYPE=image/jpeg:https://kearneybuffalocountycasa.com/wp-content/uploads/2021/04/4-28-21-Superhero-Poster-Updated-.25mp.jpg
ORGANIZER;CN="Kearney/Buffalo County CASA":MAILTO:casa@mnca.net
END:VEVENT
END:VCALENDAR