BEGIN:VCALENDAR
VERSION:2.0
PRODID:-//Kearney Buffalo County CASA - ECPv6.15.20//NONSGML v1.0//EN
CALSCALE:GREGORIAN
METHOD:PUBLISH
X-ORIGINAL-URL:https://kearneybuffalocountycasa.com
X-WR-CALDESC:Events for Kearney Buffalo County CASA
REFRESH-INTERVAL;VALUE=DURATION:PT1H
X-Robots-Tag:noindex
X-PUBLISHED-TTL:PT1H
BEGIN:VTIMEZONE
TZID:America/Chicago
BEGIN:DAYLIGHT
TZOFFSETFROM:-0600
TZOFFSETTO:-0500
TZNAME:CDT
DTSTART:20220313T080000
END:DAYLIGHT
BEGIN:STANDARD
TZOFFSETFROM:-0500
TZOFFSETTO:-0600
TZNAME:CST
DTSTART:20221106T070000
END:STANDARD
BEGIN:DAYLIGHT
TZOFFSETFROM:-0600
TZOFFSETTO:-0500
TZNAME:CDT
DTSTART:20230312T080000
END:DAYLIGHT
BEGIN:STANDARD
TZOFFSETFROM:-0500
TZOFFSETTO:-0600
TZNAME:CST
DTSTART:20231105T070000
END:STANDARD
BEGIN:DAYLIGHT
TZOFFSETFROM:-0600
TZOFFSETTO:-0500
TZNAME:CDT
DTSTART:20240310T080000
END:DAYLIGHT
BEGIN:STANDARD
TZOFFSETFROM:-0500
TZOFFSETTO:-0600
TZNAME:CST
DTSTART:20241103T070000
END:STANDARD
END:VTIMEZONE
BEGIN:VEVENT
DTSTART;TZID=America/Chicago:20230407T173000
DTEND;TZID=America/Chicago:20230407T213000
DTSTAMP:20260425T185134
CREATED:20230124T225442Z
LAST-MODIFIED:20230125T204252Z
UID:875-1680888600-1680903000@kearneybuffalocountycasa.com
SUMMARY:3rd Annual CASA Superhero GALA
DESCRIPTION:
URL:https://kearneybuffalocountycasa.com/event/875/
LOCATION:Younes Conference Center\, 416 West Talmadge Rd.\, Kearney\, NE\, 68845\, United States
ORGANIZER;CN="Kearney/Buffalo County CASA":MAILTO:casa@mnca.net
END:VEVENT
BEGIN:VEVENT
DTSTART;VALUE=DATE:20230428
DTEND;VALUE=DATE:20230429
DTSTAMP:20260425T185134
CREATED:20220811T131102Z
LAST-MODIFIED:20220811T131258Z
UID:834-1682640000-1682726399@kearneybuffalocountycasa.com
SUMMARY:Holiday-Arbor Day
DESCRIPTION:We will be closed on April 28\, 2023 for Arbor Day. We will reopen on May 1\, 2023.
URL:https://kearneybuffalocountycasa.com/event/holiday-arbor-day/
LOCATION:NE
END:VEVENT
END:VCALENDAR