BEGIN:VCALENDAR
VERSION:2.0
PRODID:-//Kearney Buffalo County CASA - ECPv6.15.20//NONSGML v1.0//EN
CALSCALE:GREGORIAN
METHOD:PUBLISH
X-WR-CALNAME:Kearney Buffalo County CASA
X-ORIGINAL-URL:https://kearneybuffalocountycasa.com
X-WR-CALDESC:Events for Kearney Buffalo County CASA
REFRESH-INTERVAL;VALUE=DURATION:PT1H
X-Robots-Tag:noindex
X-PUBLISHED-TTL:PT1H
BEGIN:VTIMEZONE
TZID:America/Chicago
BEGIN:DAYLIGHT
TZOFFSETFROM:-0600
TZOFFSETTO:-0500
TZNAME:CDT
DTSTART:20230312T080000
END:DAYLIGHT
BEGIN:STANDARD
TZOFFSETFROM:-0500
TZOFFSETTO:-0600
TZNAME:CST
DTSTART:20231105T070000
END:STANDARD
BEGIN:DAYLIGHT
TZOFFSETFROM:-0600
TZOFFSETTO:-0500
TZNAME:CDT
DTSTART:20240310T080000
END:DAYLIGHT
BEGIN:STANDARD
TZOFFSETFROM:-0500
TZOFFSETTO:-0600
TZNAME:CST
DTSTART:20241103T070000
END:STANDARD
BEGIN:DAYLIGHT
TZOFFSETFROM:-0600
TZOFFSETTO:-0500
TZNAME:CDT
DTSTART:20250309T080000
END:DAYLIGHT
BEGIN:STANDARD
TZOFFSETFROM:-0500
TZOFFSETTO:-0600
TZNAME:CST
DTSTART:20251102T070000
END:STANDARD
END:VTIMEZONE
BEGIN:VEVENT
DTSTART;TZID=America/Chicago:20241012T100000
DTEND;TZID=America/Chicago:20241012T120000
DTSTAMP:20260422T144023
CREATED:20240919T200454Z
LAST-MODIFIED:20240919T200454Z
UID:1752-1728727200-1728734400@kearneybuffalocountycasa.com
SUMMARY:2024 UNK Homecoming Parade
DESCRIPTION:
URL:https://kearneybuffalocountycasa.com/event/2024-unk-homecoming-parade/
LOCATION:NE
END:VEVENT
BEGIN:VEVENT
DTSTART;VALUE=DATE:20241014
DTEND;VALUE=DATE:20241015
DTSTAMP:20260422T144023
CREATED:20240919T205149Z
LAST-MODIFIED:20240919T205149Z
UID:1770-1728864000-1728950399@kearneybuffalocountycasa.com
SUMMARY:Columbus and Indigenous Peoples Day
DESCRIPTION:Happy Columbus and Indigenous Peoples Day! The CASA office will be closed for the holiday on October 14th and will reopen on October 15th.
URL:https://kearneybuffalocountycasa.com/event/columbus-and-indigenous-peoples-day/
LOCATION:NE
END:VEVENT
END:VCALENDAR